BEGIN:VCALENDAR
VERSION:2.0
PRODID:-//Plone.org//NONSGML plone.app.event//EN
X-WR-TIMEZONE:Europe/Berlin
BEGIN:VEVENT
SUMMARY:Kuchenparty
DTSTART;TZID=Europe/Berlin:20260330T140000
DTEND;TZID=Europe/Berlin:20260330T180000
DTSTAMP:20260424T084921Z
UID:a6c917b76f994524b823f9ddc5939345@backend
CATEGORIES:AStA,Applied Natural Sciences,Applied Physics,BioGeoWissenschaf
 ten,Ceramic Science and Engineering,Computervisualistik,Digital Business M
 anagement,E-Government,Informatik,Lehramt,Mathematische Modellierung\, Sim
 ulation und Optimierung,Wirtschaftsinformatik,Zwei-Fach-Bachelor,Web and D
 ata Science,Angewandte Naturwissenschaften,Computational Social Science,Er
 ziehungswissenschaft,Kulturwissenschaft,Pädagogik
CONTACT:AStA Erstsemester\, astaersti@uni-koblenz.de
CREATED:20220923T101328Z
DESCRIPTION:Pre-Event für ein erstes Kennenlernen zur Erstsemesterwoche\n
LAST-MODIFIED:20260324T195210Z
LOCATION:Hinter N-Gebäude beim Sportplatz\, Universitätsstr. 1\, 56070 K
 oblenz
URL:https://www.uni-koblenz.de/de/erstsemesterwoche/events/kuchenparty
END:VEVENT
BEGIN:VTIMEZONE
TZID:Europe/Berlin
X-LIC-LOCATION:Europe/Berlin
BEGIN:DAYLIGHT
DTSTART:20260329T030000
TZNAME:CEST
TZOFFSETFROM:+0100
TZOFFSETTO:+0200
END:DAYLIGHT
END:VTIMEZONE
END:VCALENDAR
