BEGIN:VCALENDAR
VERSION:2.0
PRODID:-//Plone.org//NONSGML plone.app.event//EN
X-WR-TIMEZONE:Europe/Berlin
BEGIN:VEVENT
SUMMARY:Campus Games mit anschließender Happy Hour
DTSTART;TZID=Europe/Berlin:20260331T150000
DTEND;TZID=Europe/Berlin:20260331T180000
DTSTAMP:20260423T123711Z
UID:137772909b9a4c42951c683644fb5f80@backend
CATEGORIES:AStA,Applied Natural Sciences,Applied Physics,BioGeoWissenschaf
 ten,Ceramic Science and Engineering,Computervisualistik,Digital Business M
 anagement,E-Government,Informatik,Lehramt,Mathematische Modellierung\, Sim
 ulation und Optimierung,Wirtschaftsinformatik,Zwei-Fach-Bachelor,Web and D
 ata Science,Angewandte Naturwissenschaften,Computational Social Science,Er
 ziehungswissenschaft,Kulturwissenschaft,Pädagogik
CONTACT:AStA Erstsemester\, astaersti@uni-koblenz.de
CREATED:20221010T112115Z
DESCRIPTION:Rallye zum Kennenlernen des Campus
LAST-MODIFIED:20260324T135826Z
LOCATION:Mikadoplatz
URL:https://www.uni-koblenz.de/de/erstsemesterwoche/events/uni-rallye
END:VEVENT
BEGIN:VTIMEZONE
TZID:Europe/Berlin
X-LIC-LOCATION:Europe/Berlin
BEGIN:DAYLIGHT
DTSTART:20260329T030000
TZNAME:CEST
TZOFFSETFROM:+0100
TZOFFSETTO:+0200
END:DAYLIGHT
END:VTIMEZONE
END:VCALENDAR
