BEGIN:VCALENDAR
VERSION:2.0
PRODID:-//Plone.org//NONSGML plone.app.event//EN
X-WR-TIMEZONE:Europe/Berlin
BEGIN:VEVENT
SUMMARY:Netzwerktreffen für Gründerinnen*
DTSTART;TZID=Europe/Berlin:20250515T163000
DTSTAMP:20260425T192702Z
UID:b7c89abb095c4c658bcb0635bae9d4ae@backend
CONTACT:Kornelia van der Beek\, vanderbeek@uni-koblenz.de
CREATED:20250422T125120Z
DESCRIPTION:Am 15. Mai findet ab 16:30 Uhr das erste Netzwerktreffen für 
 EXIST-Women* und Gründerinnen statt. Interessiert? Melde dich hier an:
LAST-MODIFIED:20250520T112856Z
LOCATION:TechnologieZentrumKoblenz\, Universitätsstr. 3 56070 Koblenz
URL:https://www.uni-koblenz.de/de/gruendungsbuero/veranstaltungen/netzwerk
 treffen_gruenderinnen
END:VEVENT
BEGIN:VTIMEZONE
TZID:Europe/Berlin
X-LIC-LOCATION:Europe/Berlin
BEGIN:DAYLIGHT
DTSTART:20250330T030000
TZNAME:CEST
TZOFFSETFROM:+0100
TZOFFSETTO:+0200
END:DAYLIGHT
END:VTIMEZONE
END:VCALENDAR
