BEGIN:VCALENDAR
VERSION:2.0
PRODID:-//Plone.org//NONSGML plone.app.event//EN
X-WR-TIMEZONE:Europe/Berlin
BEGIN:VEVENT
SUMMARY:Workshop Finanzierungsmöglichkeiten für die Unternehmensgründun
 g
DTSTART;TZID=Europe/Berlin:20250618T100000
DTEND;TZID=Europe/Berlin:20250618T113000
DTSTAMP:20260421T193157Z
UID:7906ee1a889b4087b5a9be891c5d6fd9@backend
CONTACT:Dr. Kornelia van der Beek\, vanderbeek@uni-koblenz.de
CREATED:20250429T103357Z
DESCRIPTION:Du brauchst Hilfe bei der Finanzierung deines Startups? Du mö
 chtest gründen und hast dich im Finanzierungswald verirrt? Abhilfe ist in
  Sicht: melde dich jetzt an für unserem Online-Workshop am 18. Juni!
LAST-MODIFIED:20250610T123435Z
LOCATION:Online
URL:https://www.uni-koblenz.de/de/gruendungsbuero/veranstaltungen/workshop
 -finanzierungsmoeglichkeiten-fuer-die-unternehmensgruendung
END:VEVENT
BEGIN:VTIMEZONE
TZID:Europe/Berlin
X-LIC-LOCATION:Europe/Berlin
BEGIN:DAYLIGHT
DTSTART:20250330T030000
TZNAME:CEST
TZOFFSETFROM:+0100
TZOFFSETTO:+0200
END:DAYLIGHT
END:VTIMEZONE
END:VCALENDAR
