BEGIN:VCALENDAR
VERSION:2.0
PRODID:-//Plone.org//NONSGML plone.app.event//EN
X-WR-TIMEZONE:Europe/Berlin
BEGIN:VEVENT
SUMMARY:Workshop Gesprächsführung
DTSTART;TZID=Europe/Berlin:20251027T100000
DTEND;TZID=Europe/Berlin:20251027T160000
DTSTAMP:20260421T193101Z
UID:7c289dd3130846bf96217cfd6f9f6198@backend
CONTACT:manaew@uni-koblenz.de
CREATED:20250429T104052Z
DESCRIPTION:Stärke deine Kommunikationskompetenz und entdecke\, wie du au
 ch in schwierigen Gesprächen souverän\, klar und empathisch bleibst. Der
  Workshop findet am 27. Oktober 2025\, von 10:00 bis 16:00 Uhr in der ED-S
 chool der Universität Koblenz statt.
LAST-MODIFIED:20251022T164755Z
URL:https://www.uni-koblenz.de/de/gruendungsbuero/veranstaltungen/workshop
 -gespraechsfuehrung
END:VEVENT
BEGIN:VTIMEZONE
TZID:Europe/Berlin
X-LIC-LOCATION:Europe/Berlin
BEGIN:STANDARD
DTSTART:20251026T020000
TZNAME:CET
TZOFFSETFROM:+0200
TZOFFSETTO:+0100
END:STANDARD
END:VTIMEZONE
END:VCALENDAR
