BEGIN:VCALENDAR
VERSION:2.0
PRODID:-//Plone.org//NONSGML plone.app.event//EN
X-WR-TIMEZONE:Europe/Berlin
BEGIN:VEVENT
SUMMARY:Workshop Kundenreise
DTSTART;TZID=Europe/Berlin:20251010T100000
DTEND;TZID=Europe/Berlin:20251010T160000
DTSTAMP:20260421T193101Z
UID:ee77b8fd8a8a430284840f808f21fb20@backend
CONTACT:manaew@uni-koblenz.de
CREATED:20250429T104052Z
DESCRIPTION:Im Workshop am 10. Oktober 2025 von 10:00 bis 16:00 Uhr lernst
  du\, wie du die Kundenreise gezielt gestaltest\, um mit den richtigen Str
 ategien und Methoden neue Kund:innen zu gewinnen und sie langfristig für 
 dein Angebot zu begeistern.
LAST-MODIFIED:20251006T145311Z
URL:https://www.uni-koblenz.de/de/gruendungsbuero/veranstaltungen/workshop
 -kundenreise
END:VEVENT
BEGIN:VTIMEZONE
TZID:Europe/Berlin
X-LIC-LOCATION:Europe/Berlin
BEGIN:DAYLIGHT
DTSTART:20250330T030000
TZNAME:CEST
TZOFFSETFROM:+0100
TZOFFSETTO:+0200
END:DAYLIGHT
END:VTIMEZONE
END:VCALENDAR
