BEGIN:VCALENDAR
VERSION:2.0
PRODID:-//Plone.org//NONSGML plone.app.event//EN
X-WR-TIMEZONE:Europe/Berlin
BEGIN:VEVENT
SUMMARY:Drittmittel-Know How: Nationale Fördermittel im Überblick
DTSTART;TZID=Europe/Berlin:20251211T100000
DTEND;TZID=Europe/Berlin:20251211T130000
DTSTAMP:20260419T145729Z
UID:cd538a6056d74220a0870c37073466dc@backend
CATEGORIES:Forschungsförderung,Graduiertenförderung,Personalentwicklung,
 Promovierende,Postdocs,Juniorprofessor*innen,Professor*innen,MINT
CONTACT:Kathrin Baar\, +49 261 287 2947\, orga.ifgpz@uni-koblenz.de
CREATED:20220915T091400Z
DESCRIPTION:Eine digitale Informationsveranstaltung für Promovierende\, P
 ostdoktorand*innen\, wissenschaftliche Mitarbeitende\, Professor*innen und
  Wissenschaftsmanager*innen
LAST-MODIFIED:20251002T070828Z
LOCATION:Videokonferenz
URL:https://www.uni-koblenz.de/de/ifgpz/das-ifgpz/veranstaltungen/drittmit
 tel-know-how-nationale-foerdermittel-dez-25
END:VEVENT
BEGIN:VTIMEZONE
TZID:Europe/Berlin
X-LIC-LOCATION:Europe/Berlin
BEGIN:STANDARD
DTSTART:20251026T020000
TZNAME:CET
TZOFFSETFROM:+0200
TZOFFSETTO:+0100
END:STANDARD
END:VTIMEZONE
END:VCALENDAR
