BEGIN:VCALENDAR
VERSION:2.0
PRODID:-//Plone.org//NONSGML plone.app.event//EN
X-WR-TIMEZONE:Europe/Berlin
BEGIN:VEVENT
SUMMARY:10 Jahre I(FG)PZ-Mentoring – Auftaktveranstaltung mit Vortrag zu
 r Wirksamkeit von Mentoring
DTSTART;TZID=Europe/Berlin:20260224T160000
DTEND;TZID=Europe/Berlin:20260224T180000
DTSTAMP:20260423T090908Z
UID:2bc4c56ebb4b4b939c639682e2d4332b@backend
CATEGORIES:Graduiertenförderung,Personalentwicklung,Promotionsinteressier
 te,Promovierende,Postdocs,Juniorprofessor*innen,Professor*innen
CONTACT:Jewgenia Weißhaar\, +49 261 287 2969\, orga.ifgpz@uni-koblenz.de
CREATED:20220915T091400Z
DESCRIPTION:Auftakt- und Abschlussveranstaltung des IFGPZ-Mentoring im Jub
 iläumsjahr mit einem Vortrag für Interessierte
LAST-MODIFIED:20251104T064913Z
LOCATION:Universitätsstr. 1\, D 238
URL:https://www.uni-koblenz.de/de/ifgpz/das-ifgpz/veranstaltungen/ifgpz-me
 ntoring-auftaktveranstaltung-feb-26
END:VEVENT
BEGIN:VTIMEZONE
TZID:Europe/Berlin
X-LIC-LOCATION:Europe/Berlin
BEGIN:STANDARD
DTSTART:20251026T020000
TZNAME:CET
TZOFFSETFROM:+0200
TZOFFSETTO:+0100
END:STANDARD
END:VTIMEZONE
END:VCALENDAR
