BEGIN:VCALENDAR
VERSION:2.0
PRODID:-//Plone.org//NONSGML plone.app.event//EN
X-WR-TIMEZONE:Europe/Berlin
BEGIN:VEVENT
SUMMARY:[Warteliste] Juniorprofessur und Tenure-Track-Professur kompakt: R
 echte\, Pflichten und Perspektiven
DTSTART;TZID=Europe/Berlin:20251030T100000
DTEND;TZID=Europe/Berlin:20251030T140000
DTSTAMP:20260425T184648Z
UID:5faad53f34e84a39af6ec965c0164aab@backend
CATEGORIES:Graduiertenförderung,Postdocs,Juniorprofessor*innen
CONTACT:Marina Sahm\, +49 261 287 2977\, orga.ifgpz@uni-koblenz.de
CREATED:20220915T091400Z
DESCRIPTION:Ein digitaler Workshop des DHV für Postdoktorand*innen und W1
 -Professor*innen
LAST-MODIFIED:20250916T113117Z
LOCATION:Videokonferenz
URL:https://www.uni-koblenz.de/de/ifgpz/das-ifgpz/veranstaltungen/juniorpr
 ofessur-und-tenure-track-professur-kompakt-okt-25
END:VEVENT
BEGIN:VTIMEZONE
TZID:Europe/Berlin
X-LIC-LOCATION:Europe/Berlin
BEGIN:STANDARD
DTSTART:20251026T020000
TZNAME:CET
TZOFFSETFROM:+0200
TZOFFSETTO:+0100
END:STANDARD
END:VTIMEZONE
END:VCALENDAR
