BEGIN:VCALENDAR
VERSION:2.0
PRODID:-//Plone.org//NONSGML plone.app.event//EN
X-WR-TIMEZONE:Europe/Berlin
BEGIN:VEVENT
SUMMARY:Karriereplanung mit Publikationen
DTSTART;TZID=Europe/Berlin:20251201T090000
DTEND;TZID=Europe/Berlin:20251202T130000
DTSTAMP:20260424T194744Z
UID:3b76185fd69d4638a7ef598f33f45bbe@backend
CATEGORIES:Forschungsförderung,Graduiertenförderung,Personalentwicklung,
 Promovierende,Postdocs,MINT
CONTACT:Dr. Talea Thönnißen\, +49 261 287 2952\, orga.ifgpz@uni-koblenz.
 de
CREATED:20220915T091400Z
DESCRIPTION:Ein zweiteiliger digitaler Workshop für Promovierende\, Postd
 oktorand*innen und wissenschaftliche Mitarbeitende
LAST-MODIFIED:20251014T141543Z
LOCATION:Videokonferenz
URL:https://www.uni-koblenz.de/de/ifgpz/das-ifgpz/veranstaltungen/karriere
 planung-mit-publikationen-dez-25
END:VEVENT
BEGIN:VTIMEZONE
TZID:Europe/Berlin
X-LIC-LOCATION:Europe/Berlin
BEGIN:STANDARD
DTSTART:20251026T020000
TZNAME:CET
TZOFFSETFROM:+0200
TZOFFSETTO:+0100
END:STANDARD
END:VTIMEZONE
END:VCALENDAR
