BEGIN:VCALENDAR
VERSION:2.0
PRODID:-//Plone.org//NONSGML plone.app.event//EN
X-WR-TIMEZONE:Europe/Berlin
BEGIN:VEVENT
SUMMARY:Verantwortungsvolle KI-Nutzung an der uk: Orientierung für Forsch
 ung und Wissenschaftsmanagement
DTSTART;TZID=Europe/Berlin:20260511T140000
DTEND;TZID=Europe/Berlin:20260511T153000
DTSTAMP:20260423T235557Z
UID:8c8cb4ef4372485f902e7bd5a108aad2@backend
CATEGORIES:Forschungsförderung,Graduiertenförderung,Personalentwicklung,
 Promovierende,Postdocs,Juniorprofessor*innen,Professor*innen
CONTACT:Dipti Rajendra Tambe\, Dr. Talea Thönnißen\, +49 261 287 2938\, 
 +49 261 287 2952\, orga.ifgpz@uni-koblenz.de
CREATED:20220915T091400Z
DESCRIPTION:Ein digitaler Vortrag für Promovierende\, Postdoktorand*innen
 \, (W1-)Professor*innen\, wissenschaftliche Mitarbeitende und Wissenschaft
 smanager*innen
LAST-MODIFIED:20260415T100233Z
LOCATION:Videokonferenz
URL:https://www.uni-koblenz.de/de/ifgpz/das-ifgpz/veranstaltungen/verantwo
 rtungsvolle-ki-nutzung-an-der-uk-mai-26
END:VEVENT
BEGIN:VTIMEZONE
TZID:Europe/Berlin
X-LIC-LOCATION:Europe/Berlin
BEGIN:DAYLIGHT
DTSTART:20260329T030000
TZNAME:CEST
TZOFFSETFROM:+0100
TZOFFSETTO:+0200
END:DAYLIGHT
END:VTIMEZONE
END:VCALENDAR
