BEGIN:VCALENDAR
VERSION:2.0
PRODID:-//Plone.org//NONSGML plone.app.event//EN
X-WR-TIMEZONE:Europe/Berlin
BEGIN:VEVENT
SUMMARY:Netzwerkveranstaltung für Studierende erster Generation
DTSTART;TZID=Europe/Berlin:20260428T163000
DTEND;TZID=Europe/Berlin:20260428T180000
DTSTAMP:20260421T144709Z
UID:20d7527cc24149cfaf4a0e716bccd7c6@backend
CATEGORIES:Alumni,Bachelor of Arts,Bachelor of Education,Bachelor of Scien
 ce,Erstsemester,Master of Arts,Master of Education,Master of Science,Neu a
 n der Uni,Studium,Termin,Zwei-Fach-Bachelor,für Studierende
CONTACT:ikarus-beratung@uni-koblenz.de
CREATED:20260218T113022Z
DESCRIPTION:In der Netzwerkveranstaltung für Studierende und Studieninter
 essierte erster Generation wird Gelegenheit geschaffen für Kontakte und F
 ragen\, die vielleicht sonst keinen Raum haben. 
LAST-MODIFIED:20260402T133212Z
LOCATION:F 114
URL:https://www.uni-koblenz.de/de/ikarus/beratung/netzwerkveranstaltung-fu
 er-studierende-erster-generation
END:VEVENT
BEGIN:VTIMEZONE
TZID:Europe/Berlin
X-LIC-LOCATION:Europe/Berlin
BEGIN:DAYLIGHT
DTSTART:20260329T030000
TZNAME:CEST
TZOFFSETFROM:+0100
TZOFFSETTO:+0200
END:DAYLIGHT
END:VTIMEZONE
END:VCALENDAR
