BEGIN:VCALENDAR
VERSION:2.0
PRODID:-//Plone.org//NONSGML plone.app.event//EN
X-WR-TIMEZONE:Europe/Berlin
BEGIN:VEVENT
SUMMARY:Women Empowerment - Was wir wollen
DTSTART;TZID=Europe/Berlin:20250314T120000
DTEND;TZID=Europe/Berlin:20250314T160000
DTSTAMP:20260425T192603Z
UID:9619b3195cca4b409c44bfe5287a36a2@backend
CATEGORIES:Bachelor of Arts,Bachelor of Science,Zwei-Fach-Bachelor,Career 
 Service IKaruS,Karriere,Master of Arts,Master of Science,Termin,für Studi
 erende,Kommunikation und Zusammenarbeit
CONTACT:Career Service IKaruS\, careerservice@uni-koblenz.de\, https://www
 .uni-koblenz.de/de/ikarus/karriere
CREATED:20231123T152439Z
DESCRIPTION:In der interaktiven Power-Session klären wir unsere Bedürfni
 sse\, erarbeiten den Spielraum eigenverantwortlicher Entscheidungen und nu
 tzen hilfreiche Erkenntnisse aus der menschlichen Kulturgeschichte.
LAST-MODIFIED:20250321T121248Z
LOCATION:E 428
URL:https://www.uni-koblenz.de/de/ikarus/karriere/termine/terminarchiv-csi
 /empowermentwaswirwollen
END:VEVENT
BEGIN:VTIMEZONE
TZID:Europe/Berlin
X-LIC-LOCATION:Europe/Berlin
BEGIN:STANDARD
DTSTART:20241027T020000
TZNAME:CET
TZOFFSETFROM:+0200
TZOFFSETTO:+0100
END:STANDARD
END:VTIMEZONE
END:VCALENDAR
