BEGIN:VCALENDAR
VERSION:2.0
PRODID:-//Plone.org//NONSGML plone.app.event//EN
X-WR-TIMEZONE:Europe/Berlin
BEGIN:VEVENT
SUMMARY:Neuerungen in OpenOlat-Version 18
DTSTART;TZID=Europe/Berlin:20231025T140000
DTEND;TZID=Europe/Berlin:20231025T150000
DTSTAMP:20260423T183706Z
UID:adf5a87a64f04f4e9acce04717cbef4e@backend
CONTACT:Dr. Andreas Kämper\, +49 (0)261 287-1552\, kaemper@uni-koblenz.de
 \, https://klips.uni-koblenz.de/v/155398
CREATED:20230925T075107Z
LAST-MODIFIED:20241127T111350Z
LOCATION:hybrid (In Präsenz in C 207 und online per BigBlueButton)
URL:https://www.uni-koblenz.de/de/izl/veranstaltungen/neuerungen-in-openol
 at-version-18
END:VEVENT
BEGIN:VTIMEZONE
TZID:Europe/Berlin
X-LIC-LOCATION:Europe/Berlin
BEGIN:DAYLIGHT
DTSTART:20230326T030000
TZNAME:CEST
TZOFFSETFROM:+0100
TZOFFSETTO:+0200
END:DAYLIGHT
END:VTIMEZONE
END:VCALENDAR
