BEGIN:VCALENDAR
VERSION:2.0
PRODID:-//Plone.org//NONSGML plone.app.event//EN
X-WR-TIMEZONE:Europe/Berlin
BEGIN:VEVENT
SUMMARY:Betriebsausflug 2026
DTSTART;TZID=Europe/Berlin:20260506T083000
DTSTAMP:20260425T154210Z
UID:548c9beffa9e4ae4b0332b23da9f3ce3@backend
CONTACT:personalrat02@uni-koblenz.de\, https://www.uni-koblenz.de/de/perso
 nalrat
CREATED:20250606T072623Z
LAST-MODIFIED:20260331T135438Z
LOCATION:Campus Metternich
URL:https://www.uni-koblenz.de/de/personalrat/berichte-und-termine/betrieb
 sausflug-2026
END:VEVENT
BEGIN:VTIMEZONE
TZID:Europe/Berlin
X-LIC-LOCATION:Europe/Berlin
BEGIN:DAYLIGHT
DTSTART:20260329T030000
TZNAME:CEST
TZOFFSETFROM:+0100
TZOFFSETTO:+0200
END:DAYLIGHT
END:VTIMEZONE
END:VCALENDAR
