BEGIN:VCALENDAR
VERSION:2.0
PRODID:-//Plone.org//NONSGML plone.app.event//EN
X-WR-TIMEZONE:Europe/Berlin
BEGIN:VEVENT
SUMMARY:Space and Religion in Amazonia: Cultural Contact and Its Influence
  on Jesuit Cartography
DTSTART;TZID=Europe/Berlin:20231205T181500
DTEND;TZID=Europe/Berlin:20231205T194500
DTSTAMP:20260421T234614Z
UID:3c57f739b8a144e9a9b4d6d2e4c2ef65@backend
CREATED:20231201T103751Z
LAST-MODIFIED:20240108T154301Z
URL:https://www.uni-koblenz.de/de/philologie-kulturwissenschaften/institut
 -fuer-geschichte/arbeitsbereiche-des-instituts-fuer-geschichte/arbeitsbere
 ich-fruehe-neuzeit/space-and-religion-in-amazonia-cultural-contact-and-its
 -influence-on-jesuit-cartography
END:VEVENT
BEGIN:VTIMEZONE
TZID:Europe/Berlin
X-LIC-LOCATION:Europe/Berlin
BEGIN:STANDARD
DTSTART:20231029T020000
TZNAME:CET
TZOFFSETFROM:+0200
TZOFFSETTO:+0100
END:STANDARD
END:VTIMEZONE
END:VCALENDAR
