BEGIN:VCALENDAR
VERSION:2.0
PRODID:-//Plone.org//NONSGML plone.app.event//EN
X-WR-TIMEZONE:Europe/Berlin
BEGIN:VEVENT
SUMMARY:Vortrag mit Andreas Kemper: Kritik der antifeministischen Männerr
 echtsbewegung
DTSTART;TZID=Europe/Berlin:20230119T190000
DTEND;TZID=Europe/Berlin:20230119T210000
DTSTAMP:20260421T210103Z
UID:7af6258332c44626923a3ed74d27d308@backend
CATEGORIES:AStA
CONTACT:AStA politische Bildung\, 0261/2871667\, astapolbil@uni-koblenz.de
CREATED:20230116T094210Z
DESCRIPTION:"Wir werden als Männer doch auch unterdrückt von den Feminis
 t*innen"\n\nDiese oder andere Phrasen hört man häufig als opferideologis
 che Rechtfertigungsstrategie von Männern. Eine Verklärung des Patriarcha
 ts und seiner Folgen findet statt.\nAndreas Kemper beschäftigt sich mit d
 iesem „Maskulismus“ und wird einen Vortrag zum Thema Männerrechtsbewe
 gungen halten.\nDer Vortrag stellt die Entwicklung und Netzwerke des Masku
 lismus dar und kontrastiert diese mit der profeministischen Männerbewegun
 g\, die in den 1970er Jahren entstanden ist. 
LAST-MODIFIED:20240305T173745Z
LOCATION:K 101
URL:https://www.uni-koblenz.de/de/ssv/asta/aktuelles/termine/vortrag-mit-a
 ndreas-kemper-kritik-der-antifeministischen-maennerrechtsbewegung
END:VEVENT
BEGIN:VTIMEZONE
TZID:Europe/Berlin
X-LIC-LOCATION:Europe/Berlin
BEGIN:STANDARD
DTSTART:20221030T020000
TZNAME:CET
TZOFFSETFROM:+0200
TZOFFSETTO:+0100
END:STANDARD
END:VTIMEZONE
END:VCALENDAR
