BEGIN:VCALENDAR
VERSION:2.0
PRODID:-//Plone.org//NONSGML plone.app.event//EN
X-WR-TIMEZONE:Europe/Berlin
BEGIN:VEVENT
SUMMARY:1. Wanderung im Wintersemester 25/26
DTSTART;TZID=Europe/Berlin:20251115T102000
DTEND;TZID=Europe/Berlin:20251115T140000
DTSTAMP:20260425T000846Z
UID:545f834636c64d4099adff2ce0acad70@backend
CONTACT:hsg-natureadventure@uni-koblenz.de
CREATED:20251020T195259Z
DESCRIPTION:Die Wanderung geht am Schloss Sayn los und wird uns durch das 
 Brexbachtal führen. Es ist eine leichte Wanderung\, denkt trotzdem bitte 
 an festes Schuhwerk und Regenjacken.\nWie bei fast allen unseren Veranstal
 ltungen ist keine Anmeldung notwendig.
LAST-MODIFIED:20251020T200729Z
LOCATION:Schloss Sayn (Bus Linie 8)
URL:https://www.uni-koblenz.de/de/ssv/hsg/natureadventure/1-wanderung-im-w
 intersemester-25-26
END:VEVENT
BEGIN:VTIMEZONE
TZID:Europe/Berlin
X-LIC-LOCATION:Europe/Berlin
BEGIN:STANDARD
DTSTART:20251026T020000
TZNAME:CET
TZOFFSETFROM:+0200
TZOFFSETTO:+0100
END:STANDARD
END:VTIMEZONE
END:VCALENDAR
