BEGIN:VCALENDAR
VERSION:2.0
PRODID:-//Plone.org//NONSGML plone.app.event//EN
X-WR-TIMEZONE:Europe/Berlin
BEGIN:VEVENT
SUMMARY:Wanderung Remstecken nach Sichhaustal
DTSTART;TZID=Europe/Berlin:20260131T110000
DTEND;TZID=Europe/Berlin:20260131T160000
DTSTAMP:20260424T190929Z
UID:c90aa011c35746b485e036f7f5d29f47@backend
CREATED:20260118T230236Z
DESCRIPTION:Streckenwanderung\, wir kommen nicht zum Startpunkt zurück\, 
 sondern fahren von einer anderen Haltestelle wieder nach Koblenz rein.
LAST-MODIFIED:20260119T083130Z
LOCATION:Bushaltestelle Remstecken\,
URL:https://www.uni-koblenz.de/de/ssv/hsg/natureadventure/wanderung-remste
 cken-nach-sichhaustal
END:VEVENT
BEGIN:VTIMEZONE
TZID:Europe/Berlin
X-LIC-LOCATION:Europe/Berlin
BEGIN:STANDARD
DTSTART:20251026T020000
TZNAME:CET
TZOFFSETFROM:+0200
TZOFFSETTO:+0100
END:STANDARD
END:VTIMEZONE
END:VCALENDAR
