BEGIN:VCALENDAR
VERSION:2.0
PRODID:-//Plone.org//NONSGML plone.app.event//EN
X-WR-TIMEZONE:Europe/Berlin
BEGIN:VEVENT
SUMMARY:"Beethoven wagen!“ - Beethoven 3. Klavierkonzert und Messe in C
DTSTART;TZID=Europe/Berlin:20240921T193000
DTSTAMP:20260420T114249Z
UID:7562139c3984452ab82648213ee5a748@backend
CREATED:20240827T093033Z
LAST-MODIFIED:20260419T234117Z
LOCATION:Florinskirche Koblenz
URL:https://www.uni-koblenz.de/de/unimus/konzerte/aktuelles/beethoven-wage
 n
END:VEVENT
BEGIN:VTIMEZONE
TZID:Europe/Berlin
X-LIC-LOCATION:Europe/Berlin
BEGIN:DAYLIGHT
DTSTART:20240331T030000
TZNAME:CEST
TZOFFSETFROM:+0100
TZOFFSETTO:+0200
END:DAYLIGHT
END:VTIMEZONE
END:VCALENDAR
