BEGIN:VCALENDAR
VERSION:2.0
PRODID:-//Plone.org//NONSGML plone.app.event//EN
X-WR-TIMEZONE:Europe/Berlin
BEGIN:VEVENT
SUMMARY:Choirs for Ecocid laws
DTSTART;TZID=Europe/Berlin:20231213T180000
DTEND;TZID=Europe/Berlin:20231213T190000
DTSTAMP:20260420T115143Z
UID:f16ac7f239e7493dabfc549c09b70a50@backend
CREATED:20250126T175824Z
LAST-MODIFIED:20260419T234118Z
LOCATION:D-Foyer
URL:https://www.uni-koblenz.de/de/unimus/konzerte/aktuelles/choirs-for-eco
 cid-laws
END:VEVENT
BEGIN:VTIMEZONE
TZID:Europe/Berlin
X-LIC-LOCATION:Europe/Berlin
BEGIN:STANDARD
DTSTART:20231029T020000
TZNAME:CET
TZOFFSETFROM:+0200
TZOFFSETTO:+0100
END:STANDARD
END:VTIMEZONE
END:VCALENDAR
