BEGIN:VCALENDAR
VERSION:2.0
PRODID:-//Plone.org//NONSGML plone.app.event//EN
X-WR-TIMEZONE:Europe/Berlin
BEGIN:VEVENT
SUMMARY:"Christmas Cosiness" - weihnachtlicher Ausklang
DTSTART;TZID=Europe/Berlin:20241211T180000
DTSTAMP:20260420T114922Z
UID:4536867c50be41ac98df8d588b394de6@backend
CREATED:20241205T092159Z
LAST-MODIFIED:20260419T234117Z
URL:https://www.uni-koblenz.de/de/unimus/konzerte/aktuelles/christmas-cosi
 ness-1
END:VEVENT
BEGIN:VTIMEZONE
TZID:Europe/Berlin
X-LIC-LOCATION:Europe/Berlin
BEGIN:STANDARD
DTSTART:20241027T020000
TZNAME:CET
TZOFFSETFROM:+0200
TZOFFSETTO:+0100
END:STANDARD
END:VTIMEZONE
END:VCALENDAR
