BEGIN:VCALENDAR
VERSION:2.0
PRODID:-//Plone.org//NONSGML plone.app.event//EN
X-WR-TIMEZONE:Europe/Berlin
BEGIN:VEVENT
SUMMARY:Guiseppe Verdi - Messa da Requiem
DTSTART;TZID=Europe/Berlin:20240423T180000
DTEND;TZID=Europe/Berlin:20240423T190000
DTSTAMP:20260420T114845Z
UID:06a76b34c1344049b1ad4ac8cdcdf5f0@backend
CREATED:20250126T175348Z
LAST-MODIFIED:20260419T234117Z
LOCATION:Rhein-Mosel Halle
URL:https://www.uni-koblenz.de/de/unimus/konzerte/aktuelles/guiseppe-verdi
 -messa-da-requiem-23-06-2024-rhein-mosel-halle
END:VEVENT
BEGIN:VTIMEZONE
TZID:Europe/Berlin
X-LIC-LOCATION:Europe/Berlin
BEGIN:DAYLIGHT
DTSTART:20240331T030000
TZNAME:CEST
TZOFFSETFROM:+0100
TZOFFSETTO:+0200
END:DAYLIGHT
END:VTIMEZONE
END:VCALENDAR
