BEGIN:VCALENDAR
VERSION:2.0
PRODID:-//Plone.org//NONSGML plone.app.event//EN
X-WR-TIMEZONE:Europe/Berlin
BEGIN:VEVENT
SUMMARY:Pergolesi Opernintermezzo "La serva padrona"
DTSTART;TZID=Europe/Berlin:20240712T180000
DTEND;TZID=Europe/Berlin:20240712T190000
DTSTAMP:20260420T114923Z
UID:e37308b490e74d78838ccb6aece753f5@backend
CREATED:20250126T175556Z
LAST-MODIFIED:20260419T234117Z
LOCATION:Kirchplatz St.Goar
URL:https://www.uni-koblenz.de/de/unimus/konzerte/aktuelles/pergolesi-oper
 nintermezzo-la-serva-padrona
END:VEVENT
BEGIN:VTIMEZONE
TZID:Europe/Berlin
X-LIC-LOCATION:Europe/Berlin
BEGIN:DAYLIGHT
DTSTART:20240331T030000
TZNAME:CEST
TZOFFSETFROM:+0100
TZOFFSETTO:+0200
END:DAYLIGHT
END:VTIMEZONE
END:VCALENDAR
