BEGIN:VCALENDAR
VERSION:2.0
PRODID:-//Plone.org//NONSGML plone.app.event//EN
X-WR-TIMEZONE:Europe/Berlin
BEGIN:VEVENT
SUMMARY:St. Kastor Koblenz
DTSTART;TZID=Europe/Berlin:20240202T180000
DTEND;TZID=Europe/Berlin:20240202T190000
DTSTAMP:20260420T114342Z
UID:9e68040abce24c1eaff0afbc4b3ad98f@backend
CREATED:20250126T175504Z
LAST-MODIFIED:20260419T234117Z
LOCATION:St.Kastor
URL:https://www.uni-koblenz.de/de/unimus/konzerte/aktuelles/st-kastor-kobl
 enz
END:VEVENT
BEGIN:VTIMEZONE
TZID:Europe/Berlin
X-LIC-LOCATION:Europe/Berlin
BEGIN:STANDARD
DTSTART:20231029T020000
TZNAME:CET
TZOFFSETFROM:+0200
TZOFFSETTO:+0100
END:STANDARD
END:VTIMEZONE
END:VCALENDAR
