BEGIN:VCALENDAR
VERSION:2.0
PRODID:-//Plone.org//NONSGML plone.app.event//EN
X-WR-TIMEZONE:Europe/Berlin
BEGIN:VEVENT
SUMMARY:Unimus 2023 - Vive la France!
DTSTART;TZID=Europe/Berlin:20230708T180000
DTEND;TZID=Europe/Berlin:20230715T190000
DTSTAMP:20260420T121701Z
UID:4ae3759d18d54bdb9e974c1c56b45ae2@backend
CREATED:20250126T180004Z
LAST-MODIFIED:20260419T234118Z
LOCATION:Universität Koblenz
URL:https://www.uni-koblenz.de/de/unimus/konzerte/aktuelles/unimus-2023-vi
 ve-la-france
END:VEVENT
BEGIN:VTIMEZONE
TZID:Europe/Berlin
X-LIC-LOCATION:Europe/Berlin
BEGIN:DAYLIGHT
DTSTART:20230326T030000
TZNAME:CEST
TZOFFSETFROM:+0100
TZOFFSETTO:+0200
END:DAYLIGHT
END:VTIMEZONE
END:VCALENDAR
