BEGIN:VCALENDAR
VERSION:2.0
PRODID:-//Plone.org//NONSGML plone.app.event//EN
X-WR-TIMEZONE:Europe/Berlin
BEGIN:VEVENT
SUMMARY:Universitätsgottesdienst
DTSTART;TZID=Europe/Berlin:20240929T180000
DTEND;TZID=Europe/Berlin:20240929T190000
DTSTAMP:20260420T114810Z
UID:54c7dd66e8054c5baed1d43244558c9f@backend
CREATED:20250126T175244Z
LAST-MODIFIED:20260419T234117Z
LOCATION:Herz-Jesu Kirche
URL:https://www.uni-koblenz.de/de/unimus/konzerte/aktuelles/universitaetsg
 ottesdienst-29-09-2024-herz-jesu-kirche
END:VEVENT
BEGIN:VTIMEZONE
TZID:Europe/Berlin
X-LIC-LOCATION:Europe/Berlin
BEGIN:DAYLIGHT
DTSTART:20240331T030000
TZNAME:CEST
TZOFFSETFROM:+0100
TZOFFSETTO:+0200
END:DAYLIGHT
END:VTIMEZONE
END:VCALENDAR
