BEGIN:VCALENDAR
VERSION:2.0
PRODID:-//Plone.org//NONSGML plone.app.event//EN
X-WR-TIMEZONE:Europe/Berlin
BEGIN:VEVENT
SUMMARY:Mentees Registration Form Summer Term 2026
DTSTART;TZID=Europe/Berlin:20260101T130000
DTEND;TZID=Europe/Berlin:20260323T120000
DTSTAMP:20260421T050811Z
UID:c37f5a469c094848a4535e38c589cdd8@backend
CONTACT:int-mentoring@uni-koblenz.de
CREATED:20240315T084331Z
DESCRIPTION:This form collects information about you as an incoming studen
 t\, and we will try to pair you with a student who will help you out with 
 your initial steps at the University of Koblenz. In case of any further qu
 estions\, concerns or suggestions\, please feel free to email us \nat int
 -mentoring@uni-koblenz.de.\n\nDieses Formular sammelt Informationen über 
 Sie als zukünftigen Studierenden\, und wir werden versuchen\, Sie mit ein
 em /einer Studierenden / Studierende zusammenzubringen\, der / die Ihnen b
 ei Ihren ersten Schritten an der Universität Koblenz hilft. Bei weiteren 
 Fragen\, Anliegen oder Vorschlägen können Sie uns gerne eine E-Mail an i
 nt-mentoring@uni-koblenz.de senden.
LAST-MODIFIED:20260218T100115Z
URL:https://www.uni-koblenz.de/en/international-relations-office/events/me
 ntees_registration
END:VEVENT
BEGIN:VTIMEZONE
TZID:Europe/Berlin
X-LIC-LOCATION:Europe/Berlin
BEGIN:STANDARD
DTSTART:20251026T020000
TZNAME:CET
TZOFFSETFROM:+0200
TZOFFSETTO:+0100
END:STANDARD
END:VTIMEZONE
END:VCALENDAR
